BEGIN:VCALENDAR
VERSION:2.0
PRODID:-//tandcschool.org//NONSGML kigkonsult.se iCalcreator 2.30.10//
CALSCALE:GREGORIAN
METHOD:PUBLISH
UID:850718b1-9449-4b2e-9452-c1054b46c301
X-WR-CALDESC:
X-WR-RELCALID:97b7cd525309e45f4827c09e42e40a5d
X-WR-TIMEZONE:America/Chicago
BEGIN:VTIMEZONE
TZID:America/Chicago
BEGIN:STANDARD
TZNAME:CST
DTSTART:20231105T020000
TZOFFSETFROM:-0500
TZOFFSETTO:-0600
RDATE:20241103T020000
END:STANDARD
BEGIN:DAYLIGHT
TZNAME:CDT
DTSTART:20240310T020000
TZOFFSETFROM:-0600
TZOFFSETTO:-0500
RDATE:20250309T020000
END:DAYLIGHT
END:VTIMEZONE
BEGIN:VEVENT
UID:5bdf9963-212b-4480-986e-70d459654b87
DTSTAMP:20260424T023155Z
DESCRIPTION:
DTSTART;TZID=America/Chicago:20240424T150000
DTEND;TZID=America/Chicago:20240424T154500
LOCATION:
SUMMARY:MS Art Club
END:VEVENT
END:VCALENDAR
