BEGIN:VCALENDAR
VERSION:2.0
PRODID:-//tandcschool.org//NONSGML kigkonsult.se iCalcreator 2.30.10//
CALSCALE:GREGORIAN
METHOD:PUBLISH
UID:96e5f8f6-78b3-44c0-ad67-83cf573cee63
X-WR-CALDESC:
X-WR-RELCALID:5b3b66d2ae67ce50f7b06eb41dcdb94d
X-WR-TIMEZONE:America/Chicago
BEGIN:VTIMEZONE
TZID:America/Chicago
BEGIN:STANDARD
TZNAME:CST
DTSTART:20231105T020000
TZOFFSETFROM:-0500
TZOFFSETTO:-0600
RDATE:20241103T020000
END:STANDARD
BEGIN:DAYLIGHT
TZNAME:CDT
DTSTART:20240310T020000
TZOFFSETFROM:-0600
TZOFFSETTO:-0500
RDATE:20250309T020000
END:DAYLIGHT
END:VTIMEZONE
BEGIN:VEVENT
UID:5b39ae0b-b6ac-49b2-b1fb-79ed679f2366
DTSTAMP:20260424T022536Z
DESCRIPTION:
DTSTART;TZID=America/Chicago:20240423T123000
DTEND;TZID=America/Chicago:20240423T145000
LOCATION:
SUMMARY:Astronomy Field Trip
END:VEVENT
END:VCALENDAR
