BEGIN:VCALENDAR
VERSION:2.0
PRODID:-//tandcschool.org//NONSGML kigkonsult.se iCalcreator 2.30.10//
CALSCALE:GREGORIAN
METHOD:PUBLISH
UID:1e73fda1-5b17-4f07-b7ff-26c906691a79
X-WR-CALDESC:
X-WR-RELCALID:5cc77143942b21321b2c81749e642a48
X-WR-TIMEZONE:America/Chicago
BEGIN:VTIMEZONE
TZID:America/Chicago
BEGIN:STANDARD
TZNAME:CST
DTSTART:20231105T020000
TZOFFSETFROM:-0500
TZOFFSETTO:-0600
RDATE:20241103T020000
END:STANDARD
BEGIN:DAYLIGHT
TZNAME:CDT
DTSTART:20240310T020000
TZOFFSETFROM:-0600
TZOFFSETTO:-0500
RDATE:20250309T020000
END:DAYLIGHT
END:VTIMEZONE
BEGIN:VEVENT
UID:e60622e2-e4dd-402c-a831-ce9397edba1b
DTSTAMP:20260424T023255Z
DESCRIPTION:
DTSTART;TZID=America/Chicago:20240423T152000
DTEND;TZID=America/Chicago:20240423T160000
LOCATION:
SUMMARY:LS Lego Club
END:VEVENT
END:VCALENDAR
