BEGIN:VCALENDAR
VERSION:2.0
PRODID:-//tandcschool.org//NONSGML kigkonsult.se iCalcreator 2.30.10//
CALSCALE:GREGORIAN
METHOD:PUBLISH
UID:2f6a2b20-6031-4f68-b50e-aa9f5075f83b
X-WR-CALDESC:
X-WR-RELCALID:6f0762b0cbbafd3d8fad1d087508b3b7
X-WR-TIMEZONE:America/Chicago
BEGIN:VTIMEZONE
TZID:America/Chicago
BEGIN:STANDARD
TZNAME:CST
DTSTART:20231105T020000
TZOFFSETFROM:-0500
TZOFFSETTO:-0600
RDATE:20241103T020000
END:STANDARD
BEGIN:DAYLIGHT
TZNAME:CDT
DTSTART:20240310T020000
TZOFFSETFROM:-0600
TZOFFSETTO:-0500
RDATE:20250309T020000
END:DAYLIGHT
END:VTIMEZONE
BEGIN:VEVENT
UID:9f50525c-227d-4d01-b4c6-b97351910560
DTSTAMP:20260424T023308Z
DESCRIPTION:
DTSTART;TZID=America/Chicago:20240423T150000
DTEND;TZID=America/Chicago:20240423T154500
LOCATION:
SUMMARY:MS Lego Club
END:VEVENT
END:VCALENDAR
