BEGIN:VCALENDAR
VERSION:2.0
PRODID:-//tandcschool.org//NONSGML kigkonsult.se iCalcreator 2.30.10//
CALSCALE:GREGORIAN
METHOD:PUBLISH
UID:f5260e78-e79b-4bb8-9166-bba3a16ef278
X-WR-CALDESC:
X-WR-RELCALID:c2d28d3e5e548d83b257f9a0e9fab149
X-WR-TIMEZONE:America/Chicago
BEGIN:VTIMEZONE
TZID:America/Chicago
BEGIN:STANDARD
TZNAME:CST
DTSTART:20231105T020000
TZOFFSETFROM:-0500
TZOFFSETTO:-0600
RDATE:20241103T020000
END:STANDARD
BEGIN:DAYLIGHT
TZNAME:CDT
DTSTART:20240310T020000
TZOFFSETFROM:-0600
TZOFFSETTO:-0500
RDATE:20250309T020000
END:DAYLIGHT
END:VTIMEZONE
BEGIN:VEVENT
UID:e5be6d3b-2bf7-40bc-98f6-d2887c064599
DTSTAMP:20260424T022206Z
DESCRIPTION:
DTSTART;TZID=America/Chicago:20240422T083000
DTEND;TZID=America/Chicago:20240425T103000
LOCATION:
SUMMARY:ACT Testing for Enrolled Students
END:VEVENT
END:VCALENDAR
