BEGIN:VCALENDAR
VERSION:2.0
PRODID:-//tandcschool.org//NONSGML kigkonsult.se iCalcreator 2.30.10//
CALSCALE:GREGORIAN
METHOD:PUBLISH
UID:afe0a5fe-d00d-4944-adbd-ebcbb5fb053b
X-WR-CALDESC:
X-WR-RELCALID:41b2ad829327793c2d82131ea6306823
X-WR-TIMEZONE:America/Chicago
BEGIN:VTIMEZONE
TZID:America/Chicago
BEGIN:STANDARD
TZNAME:CST
DTSTART:20231105T020000
TZOFFSETFROM:-0500
TZOFFSETTO:-0600
RDATE:20241103T020000
END:STANDARD
BEGIN:DAYLIGHT
TZNAME:CDT
DTSTART:20240310T020000
TZOFFSETFROM:-0600
TZOFFSETTO:-0500
RDATE:20250309T020000
END:DAYLIGHT
END:VTIMEZONE
BEGIN:VEVENT
UID:b802cb36-b9eb-42d2-8df8-9bd3d0dcc869
DTSTAMP:20260424T023047Z
DESCRIPTION:
DTSTART;TZID=America/Chicago:20240422T152000
DTEND;TZID=America/Chicago:20240422T160000
LOCATION:
SUMMARY:LS Art Club
END:VEVENT
END:VCALENDAR
