BEGIN:VCALENDAR
VERSION:2.0
PRODID:-//tandcschool.org//NONSGML kigkonsult.se iCalcreator 2.30.10//
CALSCALE:GREGORIAN
METHOD:PUBLISH
UID:a78fff23-31d9-40b9-97b1-c1b060cb98df
X-WR-CALDESC:
X-WR-RELCALID:ff2c1e6e47cc0a82b55375e024c43ae3
X-WR-TIMEZONE:America/Chicago
BEGIN:VTIMEZONE
TZID:America/Chicago
BEGIN:STANDARD
TZNAME:CST
DTSTART:20231105T020000
TZOFFSETFROM:-0500
TZOFFSETTO:-0600
RDATE:20241103T020000
END:STANDARD
BEGIN:DAYLIGHT
TZNAME:CDT
DTSTART:20240310T020000
TZOFFSETFROM:-0600
TZOFFSETTO:-0500
RDATE:20250309T020000
END:DAYLIGHT
END:VTIMEZONE
BEGIN:VEVENT
UID:b3fd09e2-d168-4fb1-9a66-864bca3b3a51
DTSTAMP:20260424T022742Z
DESCRIPTION:
DTSTART;TZID=America/Chicago:20240422T150000
DTEND;TZID=America/Chicago:20240422T160000
LOCATION:
SUMMARY:Cheer
END:VEVENT
END:VCALENDAR
