BEGIN:VCALENDAR
VERSION:2.0
PRODID:-//tandcschool.org//NONSGML kigkonsult.se iCalcreator 2.30.10//
CALSCALE:GREGORIAN
METHOD:PUBLISH
UID:1f81effd-4069-4716-9f1d-9aa8767c67d9
X-WR-CALDESC:
X-WR-RELCALID:ba802fdd5c10abaebfc3bbbacbcdc4f4
X-WR-TIMEZONE:America/Chicago
BEGIN:VTIMEZONE
TZID:America/Chicago
BEGIN:STANDARD
TZNAME:CST
DTSTART:20231105T020000
TZOFFSETFROM:-0500
TZOFFSETTO:-0600
RDATE:20241103T020000
END:STANDARD
BEGIN:DAYLIGHT
TZNAME:CDT
DTSTART:20240310T020000
TZOFFSETFROM:-0600
TZOFFSETTO:-0500
RDATE:20250309T020000
END:DAYLIGHT
END:VTIMEZONE
BEGIN:VEVENT
UID:8d21f00f-99f1-4a02-9d17-e6dff03fba5c
DTSTAMP:20260424T023256Z
DESCRIPTION:
DTSTART;TZID=America/Chicago:20240422T150000
DTEND;TZID=America/Chicago:20240422T154500
LOCATION:
SUMMARY:Bible Club
END:VEVENT
END:VCALENDAR
