BEGIN:VCALENDAR
VERSION:2.0
PRODID:-//tandcschool.org//NONSGML kigkonsult.se iCalcreator 2.30.10//
CALSCALE:GREGORIAN
METHOD:PUBLISH
UID:815fd9f1-281f-4817-af02-44a89afa69df
X-WR-CALDESC:
X-WR-RELCALID:b7aafb3c764bde731241ceb7334a780b
X-WR-TIMEZONE:America/Chicago
BEGIN:VTIMEZONE
TZID:America/Chicago
BEGIN:STANDARD
TZNAME:CST
DTSTART:20231105T020000
TZOFFSETFROM:-0500
TZOFFSETTO:-0600
RDATE:20241103T020000
END:STANDARD
BEGIN:DAYLIGHT
TZNAME:CDT
DTSTART:20240310T020000
TZOFFSETFROM:-0600
TZOFFSETTO:-0500
RDATE:20250309T020000
END:DAYLIGHT
END:VTIMEZONE
BEGIN:VEVENT
UID:706b4113-9300-44dd-800d-6cebc831b7c8
DTSTAMP:20260424T022705Z
DESCRIPTION:
DTSTART;TZID=America/Chicago:20240420T073000
DTEND;TZID=America/Chicago:20240420T083000
LOCATION:
SUMMARY:Tulsa Zoo Run
END:VEVENT
END:VCALENDAR
