BEGIN:VCALENDAR
VERSION:2.0
PRODID:-//tandcschool.org//NONSGML kigkonsult.se iCalcreator 2.30.10//
CALSCALE:GREGORIAN
METHOD:PUBLISH
UID:dbca28ce-d27b-40cd-b370-cbd2edbab28b
X-WR-CALDESC:
X-WR-RELCALID:dc3694ff22fac9c8e0fd6345a781a1d3
X-WR-TIMEZONE:America/Chicago
BEGIN:VTIMEZONE
TZID:America/Chicago
BEGIN:STANDARD
TZNAME:CST
DTSTART:20231105T020000
TZOFFSETFROM:-0500
TZOFFSETTO:-0600
RDATE:20241103T020000
END:STANDARD
BEGIN:DAYLIGHT
TZNAME:CDT
DTSTART:20240310T020000
TZOFFSETFROM:-0600
TZOFFSETTO:-0500
RDATE:20250309T020000
END:DAYLIGHT
END:VTIMEZONE
BEGIN:VEVENT
UID:a740112f-3e95-446c-8f7e-e67b3781854a
DTSTAMP:20260424T022409Z
DESCRIPTION:
DTSTART;TZID=America/Chicago:20240419T050000
DTEND;TZID=America/Chicago:20240419T050001
LOCATION:
SUMMARY:Senior Trip
END:VEVENT
END:VCALENDAR
