BEGIN:VCALENDAR
VERSION:2.0
PRODID:-//tandcschool.org//NONSGML kigkonsult.se iCalcreator 2.30.10//
CALSCALE:GREGORIAN
METHOD:PUBLISH
UID:36a579ba-5ca8-45eb-ae7c-ec2aa77e0776
X-WR-CALDESC:
X-WR-RELCALID:a32e63e305fdc57914de0fd3243e61e1
X-WR-TIMEZONE:America/Chicago
BEGIN:VTIMEZONE
TZID:America/Chicago
BEGIN:STANDARD
TZNAME:CST
DTSTART:20231105T020000
TZOFFSETFROM:-0500
TZOFFSETTO:-0600
RDATE:20241103T020000
END:STANDARD
BEGIN:DAYLIGHT
TZNAME:CDT
DTSTART:20240310T020000
TZOFFSETFROM:-0600
TZOFFSETTO:-0500
RDATE:20250309T020000
END:DAYLIGHT
END:VTIMEZONE
BEGIN:VEVENT
UID:402516ca-4b44-4667-89c0-ee32d3dd2ade
DTSTAMP:20260424T022310Z
DESCRIPTION:
DTSTART;TZID=America/Chicago:20240419T150000
DTEND;TZID=America/Chicago:20240419T154500
LOCATION:
SUMMARY:E-Gaming C
END:VEVENT
END:VCALENDAR
