BEGIN:VCALENDAR
VERSION:2.0
PRODID:-//tandcschool.org//NONSGML kigkonsult.se iCalcreator 2.30.10//
CALSCALE:GREGORIAN
METHOD:PUBLISH
UID:972de447-3167-4c14-8cca-5d1b3eefbc4f
X-WR-CALDESC:
X-WR-RELCALID:37859262d2b73fed6a71f384ece2d03d
X-WR-TIMEZONE:America/Chicago
BEGIN:VTIMEZONE
TZID:America/Chicago
BEGIN:STANDARD
TZNAME:CST
DTSTART:20231105T020000
TZOFFSETFROM:-0500
TZOFFSETTO:-0600
RDATE:20241103T020000
END:STANDARD
BEGIN:DAYLIGHT
TZNAME:CDT
DTSTART:20240310T020000
TZOFFSETFROM:-0600
TZOFFSETTO:-0500
RDATE:20250309T020000
END:DAYLIGHT
END:VTIMEZONE
BEGIN:VEVENT
UID:931e8550-3262-4164-818b-0e2ac1dffa06
DTSTAMP:20260424T023000Z
DESCRIPTION:
DTSTART;TZID=America/Chicago:20240419T150000
DTEND;TZID=America/Chicago:20240419T154500
LOCATION:
SUMMARY:Astronomy Club
END:VEVENT
END:VCALENDAR
