BEGIN:VCALENDAR
VERSION:2.0
PRODID:-//tandcschool.org//NONSGML kigkonsult.se iCalcreator 2.30.10//
CALSCALE:GREGORIAN
METHOD:PUBLISH
UID:8fd40637-2b86-4ea5-9173-a71ce8798106
X-WR-CALDESC:
X-WR-RELCALID:d2f02d8e7767db910a5cf368bd44e9a9
X-WR-TIMEZONE:America/Chicago
BEGIN:VTIMEZONE
TZID:America/Chicago
BEGIN:STANDARD
TZNAME:CST
DTSTART:20231105T020000
TZOFFSETFROM:-0500
TZOFFSETTO:-0600
RDATE:20241103T020000
END:STANDARD
BEGIN:DAYLIGHT
TZNAME:CDT
DTSTART:20240310T020000
TZOFFSETFROM:-0600
TZOFFSETTO:-0500
RDATE:20250309T020000
END:DAYLIGHT
END:VTIMEZONE
BEGIN:VEVENT
UID:2b8b84e1-f7e4-4673-abcc-e4882bb23423
DTSTAMP:20260424T022124Z
DESCRIPTION:
DTSTART;TZID=America/Chicago:20240418T133000
DTEND;TZID=America/Chicago:20240418T150000
LOCATION:
SUMMARY:Oz Performance
END:VEVENT
END:VCALENDAR
