BEGIN:VCALENDAR
VERSION:2.0
PRODID:-//tandcschool.org//NONSGML kigkonsult.se iCalcreator 2.30.10//
CALSCALE:GREGORIAN
METHOD:PUBLISH
UID:c1c8fc6e-d026-4436-84aa-6375191001db
X-WR-CALDESC:
X-WR-RELCALID:932adc41d9f76f602f4e56d1c9d38e48
X-WR-TIMEZONE:America/Chicago
BEGIN:VTIMEZONE
TZID:America/Chicago
BEGIN:STANDARD
TZNAME:CST
DTSTART:20231105T020000
TZOFFSETFROM:-0500
TZOFFSETTO:-0600
RDATE:20241103T020000
END:STANDARD
BEGIN:DAYLIGHT
TZNAME:CDT
DTSTART:20240310T020000
TZOFFSETFROM:-0600
TZOFFSETTO:-0500
RDATE:20250309T020000
END:DAYLIGHT
END:VTIMEZONE
BEGIN:VEVENT
UID:3c3ae835-c134-45b9-a620-5a09d2790778
DTSTAMP:20260424T023114Z
DESCRIPTION:
DTSTART;TZID=America/Chicago:20240418T152000
DTEND;TZID=America/Chicago:20240418T160000
LOCATION:
SUMMARY:LS Running Club
END:VEVENT
END:VCALENDAR
