BEGIN:VCALENDAR
VERSION:2.0
PRODID:-//tandcschool.org//NONSGML kigkonsult.se iCalcreator 2.30.10//
CALSCALE:GREGORIAN
METHOD:PUBLISH
UID:b1c8943b-f0bd-4065-836d-4e035fee3d0c
X-WR-CALDESC:
X-WR-RELCALID:6b64ba3f8c43918c469d8a1ab336fc1e
X-WR-TIMEZONE:America/Chicago
BEGIN:VTIMEZONE
TZID:America/Chicago
BEGIN:STANDARD
TZNAME:CST
DTSTART:20231105T020000
TZOFFSETFROM:-0500
TZOFFSETTO:-0600
RDATE:20241103T020000
END:STANDARD
BEGIN:DAYLIGHT
TZNAME:CDT
DTSTART:20240310T020000
TZOFFSETFROM:-0600
TZOFFSETTO:-0500
RDATE:20250309T020000
END:DAYLIGHT
END:VTIMEZONE
BEGIN:VEVENT
UID:4bb19985-f67b-45f0-bf0f-91d2cff64f84
DTSTAMP:20260424T023155Z
DESCRIPTION:
DTSTART;TZID=America/Chicago:20240418T150000
DTEND;TZID=America/Chicago:20240418T160000
LOCATION:
SUMMARY:Crochet Club
END:VEVENT
END:VCALENDAR
