BEGIN:VCALENDAR
VERSION:2.0
PRODID:-//tandcschool.org//NONSGML kigkonsult.se iCalcreator 2.30.10//
CALSCALE:GREGORIAN
METHOD:PUBLISH
UID:4df97c96-4241-4a65-900b-87eee950b39d
X-WR-CALDESC:
X-WR-RELCALID:df65b17b3b4fca792511549dfe16b545
X-WR-TIMEZONE:America/Chicago
BEGIN:VTIMEZONE
TZID:America/Chicago
BEGIN:STANDARD
TZNAME:CST
DTSTART:20231105T020000
TZOFFSETFROM:-0500
TZOFFSETTO:-0600
RDATE:20241103T020000
END:STANDARD
BEGIN:DAYLIGHT
TZNAME:CDT
DTSTART:20240310T020000
TZOFFSETFROM:-0600
TZOFFSETTO:-0500
RDATE:20250309T020000
END:DAYLIGHT
END:VTIMEZONE
BEGIN:VEVENT
UID:620f4ff9-4847-42cb-89da-5cca81ec85e4
DTSTAMP:20260424T022439Z
DESCRIPTION:
DTSTART;TZID=America/Chicago:20240417T153000
DTEND;TZID=America/Chicago:20240417T164500
LOCATION:
SUMMARY:Cooking Class Group B
END:VEVENT
END:VCALENDAR
