BEGIN:VCALENDAR
VERSION:2.0
PRODID:-//tandcschool.org//NONSGML kigkonsult.se iCalcreator 2.30.10//
CALSCALE:GREGORIAN
METHOD:PUBLISH
UID:2e69d46c-8fbe-4ea2-bcb9-215d80ad85d0
X-WR-CALDESC:
X-WR-RELCALID:3c086c9c3ba7bf303ca4d44bbb0098fe
X-WR-TIMEZONE:America/Chicago
BEGIN:VTIMEZONE
TZID:America/Chicago
BEGIN:STANDARD
TZNAME:CST
DTSTART:20231105T020000
TZOFFSETFROM:-0500
TZOFFSETTO:-0600
RDATE:20241103T020000
END:STANDARD
BEGIN:DAYLIGHT
TZNAME:CDT
DTSTART:20240310T020000
TZOFFSETFROM:-0600
TZOFFSETTO:-0500
RDATE:20250309T020000
END:DAYLIGHT
END:VTIMEZONE
BEGIN:VEVENT
UID:5df7dfe9-1a5c-451c-bd18-57ae36e7c2d7
DTSTAMP:20260424T022919Z
DESCRIPTION:
DTSTART;TZID=America/Chicago:20240416T152000
DTEND;TZID=America/Chicago:20240416T163000
LOCATION:
SUMMARY:Oz Rehearsal
END:VEVENT
END:VCALENDAR
