BEGIN:VCALENDAR
VERSION:2.0
PRODID:-//tandcschool.org//NONSGML kigkonsult.se iCalcreator 2.30.10//
CALSCALE:GREGORIAN
METHOD:PUBLISH
UID:cd1640b3-5ee6-41b4-9009-ff07c3282c1e
X-WR-CALDESC:
X-WR-RELCALID:08d5c190dcb0ac0adba07e7228af5798
X-WR-TIMEZONE:America/Chicago
BEGIN:VTIMEZONE
TZID:America/Chicago
BEGIN:STANDARD
TZNAME:CST
DTSTART:20231105T020000
TZOFFSETFROM:-0500
TZOFFSETTO:-0600
RDATE:20241103T020000
END:STANDARD
BEGIN:DAYLIGHT
TZNAME:CDT
DTSTART:20240310T020000
TZOFFSETFROM:-0600
TZOFFSETTO:-0500
RDATE:20250309T020000
END:DAYLIGHT
END:VTIMEZONE
BEGIN:VEVENT
UID:e7a6c99c-6ff4-4083-9ef0-2980e45b3798
DTSTAMP:20260424T023005Z
DESCRIPTION:
DTSTART;TZID=America/Chicago:20240416T150000
DTEND;TZID=America/Chicago:20240416T154500
LOCATION:
SUMMARY:HS Running Club
END:VEVENT
END:VCALENDAR
