BEGIN:VCALENDAR
VERSION:2.0
PRODID:-//tandcschool.org//NONSGML kigkonsult.se iCalcreator 2.30.10//
CALSCALE:GREGORIAN
METHOD:PUBLISH
UID:e69c785d-09e7-49f2-bdf4-a25ecf04633a
X-WR-CALDESC:No School
X-WR-RELCALID:38229224434ab0e3d4365e8aff1b823c
X-WR-TIMEZONE:America/Chicago
BEGIN:VTIMEZONE
TZID:America/Chicago
BEGIN:STANDARD
TZNAME:CST
DTSTART:20231105T020000
TZOFFSETFROM:-0500
TZOFFSETTO:-0600
RDATE:20241103T020000
END:STANDARD
BEGIN:DAYLIGHT
TZNAME:CDT
DTSTART:20240310T020000
TZOFFSETFROM:-0600
TZOFFSETTO:-0500
RDATE:20250309T020000
END:DAYLIGHT
END:VTIMEZONE
BEGIN:VEVENT
UID:8d398de4-0bdb-49c4-a0c7-e7244ba8f62f
DTSTAMP:20260424T022302Z
DESCRIPTION:No School
DTSTART;TZID=America/Chicago:20240415T000000
DTEND;TZID=America/Chicago:20240415T235900
LOCATION:
SUMMARY:April Break
END:VEVENT
END:VCALENDAR
