BEGIN:VCALENDAR
VERSION:2.0
PRODID:-//tandcschool.org//NONSGML kigkonsult.se iCalcreator 2.30.10//
CALSCALE:GREGORIAN
METHOD:PUBLISH
UID:36d377c4-e0da-4a8a-a32b-192a8939c228
X-WR-CALDESC:
X-WR-RELCALID:437b5125385e9c95e3000e552e36a88f
X-WR-TIMEZONE:America/Chicago
BEGIN:VTIMEZONE
TZID:America/Chicago
BEGIN:STANDARD
TZNAME:CST
DTSTART:20231105T020000
TZOFFSETFROM:-0500
TZOFFSETTO:-0600
RDATE:20241103T020000
END:STANDARD
BEGIN:DAYLIGHT
TZNAME:CDT
DTSTART:20240310T020000
TZOFFSETFROM:-0600
TZOFFSETTO:-0500
RDATE:20250309T020000
END:DAYLIGHT
END:VTIMEZONE
BEGIN:VEVENT
UID:2924ef42-33dc-4a30-9019-8306b5fcebf8
DTSTAMP:20260424T022520Z
DESCRIPTION:
DTSTART;TZID=America/Chicago:20240411T152000
DTEND;TZID=America/Chicago:20240411T163000
LOCATION:
SUMMARY:Oz Rehearsal
END:VEVENT
END:VCALENDAR
