BEGIN:VCALENDAR
VERSION:2.0
PRODID:-//tandcschool.org//NONSGML kigkonsult.se iCalcreator 2.30.10//
CALSCALE:GREGORIAN
METHOD:PUBLISH
UID:d3c48886-8a29-4885-905d-466aa3a1085a
X-WR-CALDESC:
X-WR-RELCALID:9a0acd18b9ea7ff1f550aaf740576ca0
X-WR-TIMEZONE:America/Chicago
BEGIN:VTIMEZONE
TZID:America/Chicago
BEGIN:STANDARD
TZNAME:CST
DTSTART:20231105T020000
TZOFFSETFROM:-0500
TZOFFSETTO:-0600
RDATE:20241103T020000
END:STANDARD
BEGIN:DAYLIGHT
TZNAME:CDT
DTSTART:20240310T020000
TZOFFSETFROM:-0600
TZOFFSETTO:-0500
RDATE:20250309T020000
END:DAYLIGHT
END:VTIMEZONE
BEGIN:VEVENT
UID:14751233-a3a0-45c7-828f-81a9732d1aa2
DTSTAMP:20260421T032503Z
DESCRIPTION:
DTSTART;TZID=America/Chicago:20240411T050000
DTEND;TZID=America/Chicago:20240411T050001
LOCATION:
SUMMARY:Free Dress and Secret Pal Reveal Lunch for Staff
END:VEVENT
END:VCALENDAR
