BEGIN:VCALENDAR
VERSION:2.0
PRODID:-//tandcschool.org//NONSGML kigkonsult.se iCalcreator 2.30.10//
CALSCALE:GREGORIAN
METHOD:PUBLISH
UID:18efe7fd-002e-4569-b46b-e3da93297119
X-WR-CALDESC:
X-WR-RELCALID:f37d0413a026aade03de4d94a5604a39
X-WR-TIMEZONE:America/Chicago
BEGIN:VTIMEZONE
TZID:America/Chicago
BEGIN:STANDARD
TZNAME:CST
DTSTART:20231105T020000
TZOFFSETFROM:-0500
TZOFFSETTO:-0600
RDATE:20241103T020000
END:STANDARD
BEGIN:DAYLIGHT
TZNAME:CDT
DTSTART:20240310T020000
TZOFFSETFROM:-0600
TZOFFSETTO:-0500
RDATE:20250309T020000
END:DAYLIGHT
END:VTIMEZONE
BEGIN:VEVENT
UID:ec00e9e9-dcf8-4940-a64a-5b6145974e5c
DTSTAMP:20260424T023011Z
DESCRIPTION:
DTSTART;TZID=America/Chicago:20240411T152000
DTEND;TZID=America/Chicago:20240411T160000
LOCATION:
SUMMARY:LS Running Club
END:VEVENT
END:VCALENDAR
