BEGIN:VCALENDAR
VERSION:2.0
PRODID:-//tandcschool.org//NONSGML kigkonsult.se iCalcreator 2.30.10//
CALSCALE:GREGORIAN
METHOD:PUBLISH
UID:ae85adf1-3739-49f1-ac0b-19b08814d084
X-WR-CALDESC:
X-WR-RELCALID:0b5fac6d95ae180a40ebb987658bdfa5
X-WR-TIMEZONE:America/Chicago
BEGIN:VTIMEZONE
TZID:America/Chicago
BEGIN:STANDARD
TZNAME:CST
DTSTART:20231105T020000
TZOFFSETFROM:-0500
TZOFFSETTO:-0600
RDATE:20241103T020000
END:STANDARD
BEGIN:DAYLIGHT
TZNAME:CDT
DTSTART:20240310T020000
TZOFFSETFROM:-0600
TZOFFSETTO:-0500
RDATE:20250309T020000
END:DAYLIGHT
END:VTIMEZONE
BEGIN:VEVENT
UID:dfc2a1a8-5210-42e3-a14e-5ab2730e9c48
DTSTAMP:20260424T022659Z
DESCRIPTION:
DTSTART;TZID=America/Chicago:20240411T151500
DTEND;TZID=America/Chicago:20240411T160000
LOCATION:
SUMMARY:Band
END:VEVENT
END:VCALENDAR
