BEGIN:VCALENDAR
VERSION:2.0
PRODID:-//tandcschool.org//NONSGML kigkonsult.se iCalcreator 2.30.10//
CALSCALE:GREGORIAN
METHOD:PUBLISH
UID:1787ad29-2441-427a-9aa6-483eabcc9dc3
X-WR-CALDESC:
X-WR-RELCALID:d334a60960a63c807467bad7dbfbe805
X-WR-TIMEZONE:America/Chicago
BEGIN:VTIMEZONE
TZID:America/Chicago
BEGIN:STANDARD
TZNAME:CST
DTSTART:20231105T020000
TZOFFSETFROM:-0500
TZOFFSETTO:-0600
RDATE:20241103T020000
END:STANDARD
BEGIN:DAYLIGHT
TZNAME:CDT
DTSTART:20240310T020000
TZOFFSETFROM:-0600
TZOFFSETTO:-0500
RDATE:20250309T020000
END:DAYLIGHT
END:VTIMEZONE
BEGIN:VEVENT
UID:c49a8a06-4783-4bda-b0c8-a50230d721ae
DTSTAMP:20260424T022441Z
DESCRIPTION:
DTSTART;TZID=America/Chicago:20240410T120000
DTEND;TZID=America/Chicago:20240410T141500
LOCATION:
SUMMARY:CPR Class for Graduating Seniors
END:VEVENT
END:VCALENDAR
