BEGIN:VCALENDAR
VERSION:2.0
PRODID:-//tandcschool.org//NONSGML kigkonsult.se iCalcreator 2.30.10//
CALSCALE:GREGORIAN
METHOD:PUBLISH
UID:663963da-47cc-4468-964e-a87f4c54e3c8
X-WR-CALDESC:
X-WR-RELCALID:bca5fb1313fbb58c0d9c7ee2e3b4c032
X-WR-TIMEZONE:America/Chicago
BEGIN:VTIMEZONE
TZID:America/Chicago
BEGIN:STANDARD
TZNAME:CST
DTSTART:20231105T020000
TZOFFSETFROM:-0500
TZOFFSETTO:-0600
RDATE:20241103T020000
END:STANDARD
BEGIN:DAYLIGHT
TZNAME:CDT
DTSTART:20240310T020000
TZOFFSETFROM:-0600
TZOFFSETTO:-0500
RDATE:20250309T020000
END:DAYLIGHT
END:VTIMEZONE
BEGIN:VEVENT
UID:f6afff82-a210-4af9-ad7e-bbe94dc52514
DTSTAMP:20260424T022440Z
DESCRIPTION:
DTSTART;TZID=America/Chicago:20240410T153000
DTEND;TZID=America/Chicago:20240410T164500
LOCATION:
SUMMARY:Cooking Class Group B
END:VEVENT
END:VCALENDAR
