BEGIN:VCALENDAR
VERSION:2.0
PRODID:-//tandcschool.org//NONSGML kigkonsult.se iCalcreator 2.30.10//
CALSCALE:GREGORIAN
METHOD:PUBLISH
UID:4e845a7c-ade6-4fd3-a233-04ca2fba95b3
X-WR-CALDESC:
X-WR-RELCALID:225afbbb69281b4516d0fe9a03ebba9d
X-WR-TIMEZONE:America/Chicago
BEGIN:VTIMEZONE
TZID:America/Chicago
BEGIN:STANDARD
TZNAME:CST
DTSTART:20231105T020000
TZOFFSETFROM:-0500
TZOFFSETTO:-0600
RDATE:20241103T020000
END:STANDARD
BEGIN:DAYLIGHT
TZNAME:CDT
DTSTART:20240310T020000
TZOFFSETFROM:-0600
TZOFFSETTO:-0500
RDATE:20250309T020000
END:DAYLIGHT
END:VTIMEZONE
BEGIN:VEVENT
UID:5aceb37f-8aad-4e8c-9715-8e243ee9d7e9
DTSTAMP:20260424T023112Z
DESCRIPTION:
DTSTART;TZID=America/Chicago:20240410T152000
DTEND;TZID=America/Chicago:20240410T160000
LOCATION:
SUMMARY:Production Club
END:VEVENT
END:VCALENDAR
