BEGIN:VCALENDAR
VERSION:2.0
PRODID:-//tandcschool.org//NONSGML kigkonsult.se iCalcreator 2.30.10//
CALSCALE:GREGORIAN
METHOD:PUBLISH
UID:59e8a2b5-a764-4ced-aadf-132aeb377afa
X-WR-CALDESC:
X-WR-RELCALID:dd6c942c4dc0ca3506df3be7d5b4901e
X-WR-TIMEZONE:America/Chicago
BEGIN:VTIMEZONE
TZID:America/Chicago
BEGIN:STANDARD
TZNAME:CST
DTSTART:20231105T020000
TZOFFSETFROM:-0500
TZOFFSETTO:-0600
RDATE:20241103T020000
END:STANDARD
BEGIN:DAYLIGHT
TZNAME:CDT
DTSTART:20240310T020000
TZOFFSETFROM:-0600
TZOFFSETTO:-0500
RDATE:20250309T020000
END:DAYLIGHT
END:VTIMEZONE
BEGIN:VEVENT
UID:4bcb8692-652e-4047-8616-5a75d0716a22
DTSTAMP:20260424T023154Z
DESCRIPTION:
DTSTART;TZID=America/Chicago:20240409T152000
DTEND;TZID=America/Chicago:20240409T160000
LOCATION:
SUMMARY:LS Lego Club
END:VEVENT
END:VCALENDAR
