BEGIN:VCALENDAR
VERSION:2.0
PRODID:-//tandcschool.org//NONSGML kigkonsult.se iCalcreator 2.30.10//
CALSCALE:GREGORIAN
METHOD:PUBLISH
UID:39852724-46d8-4ce9-9634-8e7eae8a959b
X-WR-CALDESC:
X-WR-RELCALID:636851b2c7540047d3df7b00756ba2a2
X-WR-TIMEZONE:America/Chicago
BEGIN:VTIMEZONE
TZID:America/Chicago
BEGIN:STANDARD
TZNAME:CST
DTSTART:20231105T020000
TZOFFSETFROM:-0500
TZOFFSETTO:-0600
RDATE:20241103T020000
END:STANDARD
BEGIN:DAYLIGHT
TZNAME:CDT
DTSTART:20240310T020000
TZOFFSETFROM:-0600
TZOFFSETTO:-0500
RDATE:20250309T020000
END:DAYLIGHT
END:VTIMEZONE
BEGIN:VEVENT
UID:4b5bf264-333f-493a-a0e3-415eef538bd6
DTSTAMP:20260424T024654Z
DESCRIPTION:
DTSTART;TZID=America/Chicago:20240409T150000
DTEND;TZID=America/Chicago:20240409T154500
LOCATION:
SUMMARY:MS Lego Club
END:VEVENT
END:VCALENDAR
