BEGIN:VCALENDAR
VERSION:2.0
PRODID:-//tandcschool.org//NONSGML kigkonsult.se iCalcreator 2.30.10//
CALSCALE:GREGORIAN
METHOD:PUBLISH
UID:bf4f1e4e-0887-4405-b697-7376cce73c1a
X-WR-CALDESC:
X-WR-RELCALID:9c3a360860617142f0111271f1165dd5
X-WR-TIMEZONE:America/Chicago
BEGIN:VTIMEZONE
TZID:America/Chicago
BEGIN:STANDARD
TZNAME:CST
DTSTART:20231105T020000
TZOFFSETFROM:-0500
TZOFFSETTO:-0600
RDATE:20241103T020000
END:STANDARD
BEGIN:DAYLIGHT
TZNAME:CDT
DTSTART:20240310T020000
TZOFFSETFROM:-0600
TZOFFSETTO:-0500
RDATE:20250309T020000
END:DAYLIGHT
END:VTIMEZONE
BEGIN:VEVENT
UID:1de12842-ca08-4545-b7bd-5dfcb97f2f1e
DTSTAMP:20260424T022918Z
DESCRIPTION:
DTSTART;TZID=America/Chicago:20240409T150000
DTEND;TZID=America/Chicago:20240409T154500
LOCATION:
SUMMARY:HS Running Club
END:VEVENT
END:VCALENDAR
