BEGIN:VCALENDAR
VERSION:2.0
PRODID:-//tandcschool.org//NONSGML kigkonsult.se iCalcreator 2.30.10//
CALSCALE:GREGORIAN
METHOD:PUBLISH
UID:8d344bdf-03bd-476e-bbc2-0515b64a91e1
X-WR-CALDESC:
X-WR-RELCALID:2eb365750fcb49e3ae4450fd08218aa0
X-WR-TIMEZONE:America/Chicago
BEGIN:VTIMEZONE
TZID:America/Chicago
BEGIN:STANDARD
TZNAME:CST
DTSTART:20231105T020000
TZOFFSETFROM:-0500
TZOFFSETTO:-0600
RDATE:20241103T020000
END:STANDARD
BEGIN:DAYLIGHT
TZNAME:CDT
DTSTART:20240310T020000
TZOFFSETFROM:-0600
TZOFFSETTO:-0500
RDATE:20250309T020000
END:DAYLIGHT
END:VTIMEZONE
BEGIN:VEVENT
UID:99d7099e-069a-4d15-933a-d2c173ddb98e
DTSTAMP:20260424T022125Z
DESCRIPTION:
DTSTART;TZID=America/Chicago:20240408T050000
DTEND;TZID=America/Chicago:20240408T050001
LOCATION:
SUMMARY:Solar Eclipse Day
END:VEVENT
END:VCALENDAR
