BEGIN:VCALENDAR
VERSION:2.0
PRODID:-//tandcschool.org//NONSGML kigkonsult.se iCalcreator 2.30.10//
CALSCALE:GREGORIAN
METHOD:PUBLISH
UID:d2d36a9d-6c93-4738-81f7-743dd7674216
X-WR-CALDESC:
X-WR-RELCALID:33260a18e2f00dfe73d3b35d0d662344
X-WR-TIMEZONE:America/Chicago
BEGIN:VTIMEZONE
TZID:America/Chicago
BEGIN:STANDARD
TZNAME:CST
DTSTART:20231105T020000
TZOFFSETFROM:-0500
TZOFFSETTO:-0600
RDATE:20241103T020000
END:STANDARD
BEGIN:DAYLIGHT
TZNAME:CDT
DTSTART:20240310T020000
TZOFFSETFROM:-0600
TZOFFSETTO:-0500
RDATE:20250309T020000
END:DAYLIGHT
END:VTIMEZONE
BEGIN:VEVENT
UID:f0d7d291-56e1-43b8-9e00-d1aaef865748
DTSTAMP:20260424T023153Z
DESCRIPTION:
DTSTART;TZID=America/Chicago:20240408T150000
DTEND;TZID=America/Chicago:20240408T154500
LOCATION:
SUMMARY:Bible Club
END:VEVENT
END:VCALENDAR
