BEGIN:VCALENDAR
VERSION:2.0
PRODID:-//tandcschool.org//NONSGML kigkonsult.se iCalcreator 2.30.10//
CALSCALE:GREGORIAN
METHOD:PUBLISH
UID:b6124522-5157-4da8-a7b5-0e72e5dec77a
X-WR-CALDESC:
X-WR-RELCALID:844e3172789db33b6ff74c8c417ae245
X-WR-TIMEZONE:America/Chicago
BEGIN:VTIMEZONE
TZID:America/Chicago
BEGIN:STANDARD
TZNAME:CST
DTSTART:20231105T020000
TZOFFSETFROM:-0500
TZOFFSETTO:-0600
RDATE:20241103T020000
END:STANDARD
BEGIN:DAYLIGHT
TZNAME:CDT
DTSTART:20240310T020000
TZOFFSETFROM:-0600
TZOFFSETTO:-0500
RDATE:20250309T020000
END:DAYLIGHT
END:VTIMEZONE
BEGIN:VEVENT
UID:30549e5b-52e9-46d4-a69a-9b6b4e99fa60
DTSTAMP:20260424T022205Z
DESCRIPTION:
DTSTART;TZID=America/Chicago:20240405T150000
DTEND;TZID=America/Chicago:20240405T153000
LOCATION:
SUMMARY:NHS
END:VEVENT
END:VCALENDAR
