BEGIN:VCALENDAR
VERSION:2.0
PRODID:-//tandcschool.org//NONSGML kigkonsult.se iCalcreator 2.30.10//
CALSCALE:GREGORIAN
METHOD:PUBLISH
UID:deeb58ca-074c-428f-a41b-efd87c9654a9
X-WR-CALDESC:
X-WR-RELCALID:3d172653ce0806b5df13095bc86ccf3e
X-WR-TIMEZONE:America/Chicago
BEGIN:VTIMEZONE
TZID:America/Chicago
BEGIN:STANDARD
TZNAME:CST
DTSTART:20231105T020000
TZOFFSETFROM:-0500
TZOFFSETTO:-0600
RDATE:20241103T020000
END:STANDARD
BEGIN:DAYLIGHT
TZNAME:CDT
DTSTART:20240310T020000
TZOFFSETFROM:-0600
TZOFFSETTO:-0500
RDATE:20250309T020000
END:DAYLIGHT
END:VTIMEZONE
BEGIN:VEVENT
UID:4d92dbd5-7e41-439e-9192-a8e591c588c7
DTSTAMP:20260424T022523Z
DESCRIPTION:
DTSTART;TZID=America/Chicago:20240405T000000
DTEND;TZID=America/Chicago:20240405T235900
LOCATION:
SUMMARY:Fast Food Friday
END:VEVENT
END:VCALENDAR
