BEGIN:VCALENDAR
VERSION:2.0
PRODID:-//tandcschool.org//NONSGML kigkonsult.se iCalcreator 2.30.10//
CALSCALE:GREGORIAN
METHOD:PUBLISH
UID:fbd0332b-2eef-46c5-a0a0-4151a667e8b6
X-WR-CALDESC:
X-WR-RELCALID:0eb75985cd895d9b6ac5ad5ee0adf7fe
X-WR-TIMEZONE:America/Chicago
BEGIN:VTIMEZONE
TZID:America/Chicago
BEGIN:STANDARD
TZNAME:CST
DTSTART:20231105T020000
TZOFFSETFROM:-0500
TZOFFSETTO:-0600
RDATE:20241103T020000
END:STANDARD
BEGIN:DAYLIGHT
TZNAME:CDT
DTSTART:20240310T020000
TZOFFSETFROM:-0600
TZOFFSETTO:-0500
RDATE:20250309T020000
END:DAYLIGHT
END:VTIMEZONE
BEGIN:VEVENT
UID:d996b67f-b3da-4377-ab34-7d2412f4555b
DTSTAMP:20260424T022304Z
DESCRIPTION:
DTSTART;TZID=America/Chicago:20240405T150000
DTEND;TZID=America/Chicago:20240405T154500
LOCATION:
SUMMARY:E-Gaming B
END:VEVENT
END:VCALENDAR
