BEGIN:VCALENDAR
VERSION:2.0
PRODID:-//tandcschool.org//NONSGML kigkonsult.se iCalcreator 2.30.10//
CALSCALE:GREGORIAN
METHOD:PUBLISH
UID:0576a009-1a8d-4045-863e-84181fb0e0da
X-WR-CALDESC:
X-WR-RELCALID:fd3b6a28025d2e36ed7998696b45086a
X-WR-TIMEZONE:America/Chicago
BEGIN:VTIMEZONE
TZID:America/Chicago
BEGIN:STANDARD
TZNAME:CST
DTSTART:20231105T020000
TZOFFSETFROM:-0500
TZOFFSETTO:-0600
RDATE:20241103T020000
END:STANDARD
BEGIN:DAYLIGHT
TZNAME:CDT
DTSTART:20240310T020000
TZOFFSETFROM:-0600
TZOFFSETTO:-0500
RDATE:20250309T020000
END:DAYLIGHT
END:VTIMEZONE
BEGIN:VEVENT
UID:06645951-d4e4-4b56-a08d-6f9bec31be03
DTSTAMP:20260424T022428Z
DESCRIPTION:
DTSTART;TZID=America/Chicago:20240403T152000
DTEND;TZID=America/Chicago:20240403T163000
LOCATION:
SUMMARY:Oz Rehearsal
END:VEVENT
END:VCALENDAR
