BEGIN:VCALENDAR
VERSION:2.0
PRODID:-//tandcschool.org//NONSGML kigkonsult.se iCalcreator 2.30.10//
CALSCALE:GREGORIAN
METHOD:PUBLISH
UID:e5681929-c47f-46c6-8048-181622f195ce
X-WR-CALDESC:
X-WR-RELCALID:da406e2ed5da61b9002e6651ae173b7f
X-WR-TIMEZONE:America/Chicago
BEGIN:VTIMEZONE
TZID:America/Chicago
BEGIN:STANDARD
TZNAME:CST
DTSTART:20231105T020000
TZOFFSETFROM:-0500
TZOFFSETTO:-0600
RDATE:20241103T020000
END:STANDARD
BEGIN:DAYLIGHT
TZNAME:CDT
DTSTART:20240310T020000
TZOFFSETFROM:-0600
TZOFFSETTO:-0500
RDATE:20250309T020000
END:DAYLIGHT
END:VTIMEZONE
BEGIN:VEVENT
UID:cbcf49b9-cea3-47b1-8697-2523903e1c3d
DTSTAMP:20260424T022440Z
DESCRIPTION:
DTSTART;TZID=America/Chicago:20240403T153000
DTEND;TZID=America/Chicago:20240403T164500
LOCATION:
SUMMARY:Cooking Class Group B
END:VEVENT
END:VCALENDAR
