BEGIN:VCALENDAR
VERSION:2.0
PRODID:-//tandcschool.org//NONSGML kigkonsult.se iCalcreator 2.30.10//
CALSCALE:GREGORIAN
METHOD:PUBLISH
UID:090678ad-4786-4a89-8e1e-f12f7a6cd1ef
X-WR-CALDESC:
X-WR-RELCALID:184280a3b1344d8e5d68d0a9ce8fdd30
X-WR-TIMEZONE:America/Chicago
BEGIN:VTIMEZONE
TZID:America/Chicago
BEGIN:STANDARD
TZNAME:CST
DTSTART:20231105T020000
TZOFFSETFROM:-0500
TZOFFSETTO:-0600
RDATE:20241103T020000
END:STANDARD
BEGIN:DAYLIGHT
TZNAME:CDT
DTSTART:20240310T020000
TZOFFSETFROM:-0600
TZOFFSETTO:-0500
RDATE:20250309T020000
END:DAYLIGHT
END:VTIMEZONE
BEGIN:VEVENT
UID:770e9ed0-0b77-4e44-a72d-94016dd76f19
DTSTAMP:20260424T023112Z
DESCRIPTION:
DTSTART;TZID=America/Chicago:20240403T150000
DTEND;TZID=America/Chicago:20240403T154500
LOCATION:
SUMMARY:HS Art Club
END:VEVENT
END:VCALENDAR
