BEGIN:VCALENDAR
VERSION:2.0
PRODID:-//tandcschool.org//NONSGML kigkonsult.se iCalcreator 2.30.10//
CALSCALE:GREGORIAN
METHOD:PUBLISH
UID:fad1c426-3e06-444a-9f76-e1c729c818bd
X-WR-CALDESC:
X-WR-RELCALID:870d1b6811a320eaf2f8dadf8ebae8c4
X-WR-TIMEZONE:America/Chicago
BEGIN:VTIMEZONE
TZID:America/Chicago
BEGIN:STANDARD
TZNAME:CST
DTSTART:20231105T020000
TZOFFSETFROM:-0500
TZOFFSETTO:-0600
RDATE:20241103T020000
END:STANDARD
BEGIN:DAYLIGHT
TZNAME:CDT
DTSTART:20240310T020000
TZOFFSETFROM:-0600
TZOFFSETTO:-0500
RDATE:20250309T020000
END:DAYLIGHT
END:VTIMEZONE
BEGIN:VEVENT
UID:2475fcb5-b36a-459c-b07b-e252ac3b2385
DTSTAMP:20260424T022838Z
DESCRIPTION:
DTSTART;TZID=America/Chicago:20240402T050000
DTEND;TZID=America/Chicago:20240402T050001
LOCATION:
SUMMARY:Entry Deadline for Tulsa Zoo Run
END:VEVENT
END:VCALENDAR
