BEGIN:VCALENDAR
VERSION:2.0
PRODID:-//tandcschool.org//NONSGML kigkonsult.se iCalcreator 2.30.10//
CALSCALE:GREGORIAN
METHOD:PUBLISH
UID:d18a5ba6-f03f-47a8-bd80-6eeddb38e2b0
X-WR-CALDESC:
X-WR-RELCALID:a09aa71dc780b33dd9e36f1cae0351db
X-WR-TIMEZONE:America/Chicago
BEGIN:VTIMEZONE
TZID:America/Chicago
BEGIN:STANDARD
TZNAME:CST
DTSTART:20231105T020000
TZOFFSETFROM:-0500
TZOFFSETTO:-0600
RDATE:20241103T020000
END:STANDARD
BEGIN:DAYLIGHT
TZNAME:CDT
DTSTART:20240310T020000
TZOFFSETFROM:-0600
TZOFFSETTO:-0500
RDATE:20250309T020000
END:DAYLIGHT
END:VTIMEZONE
BEGIN:VEVENT
UID:8e59bd06-9d9c-41a1-b6d3-30060d889a52
DTSTAMP:20260424T023209Z
DESCRIPTION:
DTSTART;TZID=America/Chicago:20240402T150000
DTEND;TZID=America/Chicago:20240402T154500
LOCATION:
SUMMARY:HS Lego Club
END:VEVENT
END:VCALENDAR
