BEGIN:VCALENDAR
VERSION:2.0
PRODID:-//tandcschool.org//NONSGML kigkonsult.se iCalcreator 2.30.10//
CALSCALE:GREGORIAN
METHOD:PUBLISH
UID:b23a46c2-a8c4-46b5-ae98-3610e4e098ae
X-WR-CALDESC:
X-WR-RELCALID:654414ca621dd4b995c1eb794f927425
X-WR-TIMEZONE:America/Chicago
BEGIN:VTIMEZONE
TZID:America/Chicago
BEGIN:STANDARD
TZNAME:CST
DTSTART:20231105T020000
TZOFFSETFROM:-0500
TZOFFSETTO:-0600
RDATE:20241103T020000
END:STANDARD
BEGIN:DAYLIGHT
TZNAME:CDT
DTSTART:20240310T020000
TZOFFSETFROM:-0600
TZOFFSETTO:-0500
RDATE:20250309T020000
END:DAYLIGHT
END:VTIMEZONE
BEGIN:VEVENT
UID:91dea17f-37c4-4b51-8cb0-fdbe3b0401fe
DTSTAMP:20260424T023000Z
DESCRIPTION:
DTSTART;TZID=America/Chicago:20240401T152000
DTEND;TZID=America/Chicago:20240401T163000
LOCATION:
SUMMARY:Oz Rehearsal
END:VEVENT
END:VCALENDAR
