BEGIN:VCALENDAR
VERSION:2.0
PRODID:-//tandcschool.org//NONSGML kigkonsult.se iCalcreator 2.30.10//
CALSCALE:GREGORIAN
METHOD:PUBLISH
UID:7ae092f4-c714-4046-92c4-8d35d39bdd0b
X-WR-CALDESC:
X-WR-RELCALID:5708a281785799945bcb6f4988024d2c
X-WR-TIMEZONE:America/Chicago
BEGIN:VTIMEZONE
TZID:America/Chicago
BEGIN:STANDARD
TZNAME:CST
DTSTART:20231105T020000
TZOFFSETFROM:-0500
TZOFFSETTO:-0600
RDATE:20241103T020000
END:STANDARD
BEGIN:DAYLIGHT
TZNAME:CDT
DTSTART:20240310T020000
TZOFFSETFROM:-0600
TZOFFSETTO:-0500
RDATE:20250309T020000
END:DAYLIGHT
END:VTIMEZONE
BEGIN:VEVENT
UID:f69451d8-231d-44b7-a4c9-ae381cd607c5
DTSTAMP:20260424T022429Z
DESCRIPTION:
DTSTART;TZID=America/Chicago:20240401T150000
DTEND;TZID=America/Chicago:20240401T154500
LOCATION:
SUMMARY:Chess
END:VEVENT
END:VCALENDAR
