BEGIN:VCALENDAR
VERSION:2.0
PRODID:-//tandcschool.org//NONSGML kigkonsult.se iCalcreator 2.30.10//
CALSCALE:GREGORIAN
METHOD:PUBLISH
UID:6af14f60-a3d0-4552-a0f6-2ebe13c5cf95
X-WR-CALDESC:
X-WR-RELCALID:65bf23154de846399555130cfef8fab4
X-WR-TIMEZONE:America/Chicago
BEGIN:VTIMEZONE
TZID:America/Chicago
BEGIN:STANDARD
TZNAME:CST
DTSTART:20231105T020000
TZOFFSETFROM:-0500
TZOFFSETTO:-0600
RDATE:20241103T020000
END:STANDARD
BEGIN:DAYLIGHT
TZNAME:CDT
DTSTART:20240310T020000
TZOFFSETFROM:-0600
TZOFFSETTO:-0500
RDATE:20250309T020000
END:DAYLIGHT
END:VTIMEZONE
BEGIN:VEVENT
UID:5835f514-8402-4052-848b-4e0813260d1a
DTSTAMP:20260424T022441Z
DESCRIPTION:
DTSTART;TZID=America/Chicago:20240401T150000
DTEND;TZID=America/Chicago:20240401T160000
LOCATION:
SUMMARY:Cheer
END:VEVENT
END:VCALENDAR
