BEGIN:VCALENDAR
VERSION:2.0
PRODID:-//tandcschool.org//NONSGML kigkonsult.se iCalcreator 2.30.10//
CALSCALE:GREGORIAN
METHOD:PUBLISH
UID:923e2812-d57d-4b21-8e19-1582ffaff4e6
X-WR-CALDESC:LS dismiss@12:00PM\nUS dismiss@12:25PM\nNo Aftercare
X-WR-RELCALID:730c36918fc399e1b99bbd80c8565f04
X-WR-TIMEZONE:America/Chicago
BEGIN:VTIMEZONE
TZID:America/Chicago
BEGIN:STANDARD
TZNAME:CST
DTSTART:20231105T020000
TZOFFSETFROM:-0500
TZOFFSETTO:-0600
RDATE:20241103T020000
END:STANDARD
BEGIN:DAYLIGHT
TZNAME:CDT
DTSTART:20240310T020000
TZOFFSETFROM:-0600
TZOFFSETTO:-0500
RDATE:20250309T020000
END:DAYLIGHT
END:VTIMEZONE
BEGIN:VEVENT
UID:6098726f-6809-4a3f-b0d9-75f72b40454a
DTSTAMP:20260424T034251Z
DESCRIPTION:LS dismiss@12:00PM\nUS dismiss@12:25PM\nNo Aftercare
DTSTART;TZID=America/Chicago:20240329T050000
DTEND;TZID=America/Chicago:20240329T050001
LOCATION:
SUMMARY:Half Day
END:VEVENT
END:VCALENDAR
