BEGIN:VCALENDAR
VERSION:2.0
PRODID:-//tandcschool.org//NONSGML kigkonsult.se iCalcreator 2.30.10//
CALSCALE:GREGORIAN
METHOD:PUBLISH
UID:97035ddb-f561-4b90-83c2-506dc06e220f
X-WR-CALDESC:
X-WR-RELCALID:7b78208819069c2acc13ceafd93e251d
X-WR-TIMEZONE:America/Chicago
BEGIN:VTIMEZONE
TZID:America/Chicago
BEGIN:STANDARD
TZNAME:CST
DTSTART:20231105T020000
TZOFFSETFROM:-0500
TZOFFSETTO:-0600
RDATE:20241103T020000
END:STANDARD
BEGIN:DAYLIGHT
TZNAME:CDT
DTSTART:20240310T020000
TZOFFSETFROM:-0600
TZOFFSETTO:-0500
RDATE:20250309T020000
END:DAYLIGHT
END:VTIMEZONE
BEGIN:VEVENT
UID:203faa3b-0ce8-453a-b732-e7ca583e8b6e
DTSTAMP:20260424T040159Z
DESCRIPTION:
DTSTART;TZID=America/Chicago:20240328T150000
DTEND;TZID=America/Chicago:20240328T160000
LOCATION:
SUMMARY:Crochet Club
END:VEVENT
END:VCALENDAR
