BEGIN:VCALENDAR
VERSION:2.0
PRODID:-//tandcschool.org//NONSGML kigkonsult.se iCalcreator 2.30.10//
CALSCALE:GREGORIAN
METHOD:PUBLISH
UID:3aa6f518-1e80-48c5-9199-337c78212a45
X-WR-CALDESC:
X-WR-RELCALID:99118ed2842cf327f62fa457b58851b2
X-WR-TIMEZONE:America/Chicago
BEGIN:VTIMEZONE
TZID:America/Chicago
BEGIN:STANDARD
TZNAME:CST
DTSTART:20231105T020000
TZOFFSETFROM:-0500
TZOFFSETTO:-0600
RDATE:20241103T020000
END:STANDARD
BEGIN:DAYLIGHT
TZNAME:CDT
DTSTART:20240310T020000
TZOFFSETFROM:-0600
TZOFFSETTO:-0500
RDATE:20250309T020000
END:DAYLIGHT
END:VTIMEZONE
BEGIN:VEVENT
UID:f22b8268-c45a-4049-bf22-af442772cec0
DTSTAMP:20260424T040338Z
DESCRIPTION:
DTSTART;TZID=America/Chicago:20240328T150000
DTEND;TZID=America/Chicago:20240328T154500
LOCATION:
SUMMARY:MS Running Club
END:VEVENT
END:VCALENDAR
