BEGIN:VCALENDAR
VERSION:2.0
PRODID:-//tandcschool.org//NONSGML kigkonsult.se iCalcreator 2.30.10//
CALSCALE:GREGORIAN
METHOD:PUBLISH
UID:57fc420c-3183-4b11-a59b-f2ab1b5d8486
X-WR-CALDESC:
X-WR-RELCALID:f9e89c5dd2e733dbcb1d1877f0bcac5a
X-WR-TIMEZONE:America/Chicago
BEGIN:VTIMEZONE
TZID:America/Chicago
BEGIN:STANDARD
TZNAME:CST
DTSTART:20231105T020000
TZOFFSETFROM:-0500
TZOFFSETTO:-0600
RDATE:20241103T020000
END:STANDARD
BEGIN:DAYLIGHT
TZNAME:CDT
DTSTART:20240310T020000
TZOFFSETFROM:-0600
TZOFFSETTO:-0500
RDATE:20250309T020000
END:DAYLIGHT
END:VTIMEZONE
BEGIN:VEVENT
UID:fa68c21c-d78e-40aa-beea-dc8a9c8b57e8
DTSTAMP:20260424T040321Z
DESCRIPTION:
DTSTART;TZID=America/Chicago:20240327T152000
DTEND;TZID=America/Chicago:20240327T160000
LOCATION:
SUMMARY:Production Club- All
END:VEVENT
END:VCALENDAR
