BEGIN:VCALENDAR
VERSION:2.0
PRODID:-//tandcschool.org//NONSGML kigkonsult.se iCalcreator 2.30.10//
CALSCALE:GREGORIAN
METHOD:PUBLISH
UID:0b7f3104-8d27-4555-9530-c3517c084539
X-WR-CALDESC:
X-WR-RELCALID:da8e08808c7e9fc9bcc251d779097d6c
X-WR-TIMEZONE:America/Chicago
BEGIN:VTIMEZONE
TZID:America/Chicago
BEGIN:STANDARD
TZNAME:CST
DTSTART:20231105T020000
TZOFFSETFROM:-0500
TZOFFSETTO:-0600
RDATE:20241103T020000
END:STANDARD
BEGIN:DAYLIGHT
TZNAME:CDT
DTSTART:20240310T020000
TZOFFSETFROM:-0600
TZOFFSETTO:-0500
RDATE:20250309T020000
END:DAYLIGHT
END:VTIMEZONE
BEGIN:VEVENT
UID:4c4d0304-ffe2-405e-a07e-1aaf6a47d797
DTSTAMP:20260424T040031Z
DESCRIPTION:
DTSTART;TZID=America/Chicago:20240327T153000
DTEND;TZID=America/Chicago:20240327T164500
LOCATION:
SUMMARY:Cooking Class B
END:VEVENT
END:VCALENDAR
