BEGIN:VCALENDAR
VERSION:2.0
PRODID:-//tandcschool.org//NONSGML kigkonsult.se iCalcreator 2.30.10//
CALSCALE:GREGORIAN
METHOD:PUBLISH
UID:d977489a-5095-45bf-82ea-1d7d17f71ecb
X-WR-CALDESC:
X-WR-RELCALID:5ec80476cb8ccfd453747c261e1bee4c
X-WR-TIMEZONE:America/Chicago
BEGIN:VTIMEZONE
TZID:America/Chicago
BEGIN:STANDARD
TZNAME:CST
DTSTART:20231105T020000
TZOFFSETFROM:-0500
TZOFFSETTO:-0600
RDATE:20241103T020000
END:STANDARD
BEGIN:DAYLIGHT
TZNAME:CDT
DTSTART:20240310T020000
TZOFFSETFROM:-0600
TZOFFSETTO:-0500
RDATE:20250309T020000
END:DAYLIGHT
END:VTIMEZONE
BEGIN:VEVENT
UID:a25a89d4-7449-4e45-98e3-3d9498388bfb
DTSTAMP:20260424T040500Z
DESCRIPTION:
DTSTART;TZID=America/Chicago:20240327T150000
DTEND;TZID=America/Chicago:20240327T154500
LOCATION:
SUMMARY:MS Art Club
END:VEVENT
END:VCALENDAR
