BEGIN:VCALENDAR
VERSION:2.0
PRODID:-//tandcschool.org//NONSGML kigkonsult.se iCalcreator 2.30.10//
CALSCALE:GREGORIAN
METHOD:PUBLISH
UID:9551cfc1-79fb-40aa-8374-6ecc95497830
X-WR-CALDESC:
X-WR-RELCALID:c3cd13ce08b0b1ee6a076d18abaa06d8
X-WR-TIMEZONE:America/Chicago
BEGIN:VTIMEZONE
TZID:America/Chicago
BEGIN:STANDARD
TZNAME:CST
DTSTART:20231105T020000
TZOFFSETFROM:-0500
TZOFFSETTO:-0600
RDATE:20241103T020000
END:STANDARD
BEGIN:DAYLIGHT
TZNAME:CDT
DTSTART:20240310T020000
TZOFFSETFROM:-0600
TZOFFSETTO:-0500
RDATE:20250309T020000
END:DAYLIGHT
END:VTIMEZONE
BEGIN:VEVENT
UID:c2759beb-21bb-4ca2-b9a7-70ba9b5d32db
DTSTAMP:20260424T040132Z
DESCRIPTION:
DTSTART;TZID=America/Chicago:20240326T152000
DTEND;TZID=America/Chicago:20240326T160000
LOCATION:
SUMMARY:LS Lego Club
END:VEVENT
END:VCALENDAR
