BEGIN:VCALENDAR
VERSION:2.0
PRODID:-//tandcschool.org//NONSGML kigkonsult.se iCalcreator 2.30.10//
CALSCALE:GREGORIAN
METHOD:PUBLISH
UID:d2ab7426-74ee-4009-ae85-50b411bca91c
X-WR-CALDESC:
X-WR-RELCALID:f41b3826d2f69d74d8388531b6dc7513
X-WR-TIMEZONE:America/Chicago
BEGIN:VTIMEZONE
TZID:America/Chicago
BEGIN:STANDARD
TZNAME:CST
DTSTART:20231105T020000
TZOFFSETFROM:-0500
TZOFFSETTO:-0600
RDATE:20241103T020000
END:STANDARD
BEGIN:DAYLIGHT
TZNAME:CDT
DTSTART:20240310T020000
TZOFFSETFROM:-0600
TZOFFSETTO:-0500
RDATE:20250309T020000
END:DAYLIGHT
END:VTIMEZONE
BEGIN:VEVENT
UID:45b649ef-51e2-4685-9928-8087a9d1b6ad
DTSTAMP:20260424T034250Z
DESCRIPTION:
DTSTART;TZID=America/Chicago:20240325T153000
DTEND;TZID=America/Chicago:20240325T164500
LOCATION:
SUMMARY:Cooking Class A
END:VEVENT
END:VCALENDAR
